BEGIN:VCALENDAR
VERSION:2.0
PRODID:-//Middletown Public Library - ECPv6.15.20//NONSGML v1.0//EN
CALSCALE:GREGORIAN
METHOD:PUBLISH
X-WR-CALNAME:Middletown Public Library
X-ORIGINAL-URL:https://middletownpubliclib.org
X-WR-CALDESC:Events for Middletown Public Library
REFRESH-INTERVAL;VALUE=DURATION:PT1H
X-Robots-Tag:noindex
X-PUBLISHED-TTL:PT1H
BEGIN:VTIMEZONE
TZID:America/New_York
BEGIN:DAYLIGHT
TZOFFSETFROM:-0500
TZOFFSETTO:-0400
TZNAME:EDT
DTSTART:20140309T070000
END:DAYLIGHT
BEGIN:STANDARD
TZOFFSETFROM:-0400
TZOFFSETTO:-0500
TZNAME:EST
DTSTART:20141102T060000
END:STANDARD
BEGIN:DAYLIGHT
TZOFFSETFROM:-0500
TZOFFSETTO:-0400
TZNAME:EDT
DTSTART:20150308T070000
END:DAYLIGHT
BEGIN:STANDARD
TZOFFSETFROM:-0400
TZOFFSETTO:-0500
TZNAME:EST
DTSTART:20151101T060000
END:STANDARD
BEGIN:DAYLIGHT
TZOFFSETFROM:-0500
TZOFFSETTO:-0400
TZNAME:EDT
DTSTART:20160313T070000
END:DAYLIGHT
BEGIN:STANDARD
TZOFFSETFROM:-0400
TZOFFSETTO:-0500
TZNAME:EST
DTSTART:20161106T060000
END:STANDARD
BEGIN:DAYLIGHT
TZOFFSETFROM:-0500
TZOFFSETTO:-0400
TZNAME:EDT
DTSTART:20170312T070000
END:DAYLIGHT
BEGIN:STANDARD
TZOFFSETFROM:-0400
TZOFFSETTO:-0500
TZNAME:EST
DTSTART:20171105T060000
END:STANDARD
BEGIN:DAYLIGHT
TZOFFSETFROM:-0500
TZOFFSETTO:-0400
TZNAME:EDT
DTSTART:20180311T070000
END:DAYLIGHT
BEGIN:STANDARD
TZOFFSETFROM:-0400
TZOFFSETTO:-0500
TZNAME:EST
DTSTART:20181104T060000
END:STANDARD
END:VTIMEZONE
BEGIN:VEVENT
DTSTART;TZID=America/New_York:20170805T100000
DTEND;TZID=America/New_York:20170805T150000
DTSTAMP:20260420T080414
CREATED:20170511T192640Z
LAST-MODIFIED:20170515T152042Z
UID:10019595-1501927200-1501945200@middletownpubliclib.org
SUMMARY:Wine\, Wheels\, & Beer Car Show
DESCRIPTION:Central PA Car Shows has teamed up with The Vineyard and Brewery at Hershey for Wine\, Wheels\, & Beer for a day of relaxation\, music\, food\, and lots of car show fun.  Proceeds benefit the Middletown Public Library. \nIt is part of a larger anniversary celebration at the Vineyard. \nAdmission to event is free.   \nIf your are interested in helping to sponsor this event\, please contact Troy White at 717-443-4807. \nOpen to all Cars\, Trucks and Motorcycles. \n\n\n	Related
URL:https://middletownpubliclib.org/calendar/wine-wheels-beer-car-show/
LOCATION:Vineyard at Hershey\, 598 Schoolhouse Road\, Middletown
ATTACH;FMTTYPE=image/jpeg:https://middletownpubliclib.org/wp-content/uploads/2017/05/15977209_1231254076959095_3364834127845013958_n-e1494861631827.jpg
GEO:40.1952821;-76.6752577
X-APPLE-STRUCTURED-LOCATION;VALUE=URI;X-ADDRESS=Vineyard at Hershey 598 Schoolhouse Road Middletown;X-APPLE-RADIUS=500;X-TITLE=598 Schoolhouse Road:geo:-76.6752577,40.1952821
END:VEVENT
BEGIN:VEVENT
DTSTART;TZID=America/New_York:20160806T100000
DTEND;TZID=America/New_York:20160806T150000
DTSTAMP:20260420T080414
CREATED:20160525T174853Z
LAST-MODIFIED:20160525T181159Z
UID:10019199-1470477600-1470495600@middletownpubliclib.org
SUMMARY:Wine\, Wheels\, and Beer Festival and Car Show
DESCRIPTION:Central PA Car Shows has teamed up with The Vineyard and Brewery at Hershey for Wine\, Wheels\, & Beer for a day of relaxation\, music\, food\, and lots of car show fun.  Proceeds benefit the Middletown Public Library. \nIt is part of a larger anniversary celebration at the Vineyard that will include a Trail to Ale 5k and Fun Walk. \nAdmission to event is free.   \nIf your are interested in helping to sponsor this event\, please contact Troy White at 717-443-4807. \nOpen to all Cars\, Trucks and Motorcycles. \n\n\n	Related
URL:https://middletownpubliclib.org/calendar/wine-wheels-beer-festival-car-show/
LOCATION:Vineyard at Hershey\, 598 Schoolhouse Road\, Middletown
GEO:40.1952821;-76.6752577
X-APPLE-STRUCTURED-LOCATION;VALUE=URI;X-ADDRESS=Vineyard at Hershey 598 Schoolhouse Road Middletown;X-APPLE-RADIUS=500;X-TITLE=598 Schoolhouse Road:geo:-76.6752577,40.1952821
END:VEVENT
BEGIN:VEVENT
DTSTART;TZID=America/New_York:20150829T100000
DTEND;TZID=America/New_York:20150829T150000
DTSTAMP:20260420T080414
CREATED:20150730T182708Z
LAST-MODIFIED:20150730T182922Z
UID:10018042-1440842400-1440860400@middletownpubliclib.org
SUMMARY:2nd Annual Wine\, Wheels\, and Beer Festival and Car Show
DESCRIPTION:Central Pa Car Shows has teamed up with The Vineyard and Brewery at Hershey for Wine\, Wheels\, & Beer for a day of relaxation\, music\, food\, and lots of car show fun.  Proceeds benefit the Middletown Public Library. \nAdmission to event is free.  Additional information is available by clicking here. \nIf your are interested in helping to sponsor this event\, please contact Troy White at 717-443-4807. \nVehicle Registration opens at 8am to Noon (Open to all Cars\, Trucks and Motorcycles)\nPrizes awarded at 2:30pm \n\nBest of Show cash awards in 4 categories:\nCar ~ Sponsored All Shine Detailing LLC.\nTruck\nMotorcycles\nPeople’s choice\n\n*Event T-Shirts will be available to the first 100 registered vehicles ~ Sponsored by Faulkner Buick GMC ** \n\n\n	Related
URL:https://middletownpubliclib.org/calendar/2nd-annual-wine-wheels-and-beer-festival-and-car-show/
LOCATION:Vineyard at Hershey\, 598 Schoolhouse Road\, Middletown
GEO:40.1952821;-76.6752577
X-APPLE-STRUCTURED-LOCATION;VALUE=URI;X-ADDRESS=Vineyard at Hershey 598 Schoolhouse Road Middletown;X-APPLE-RADIUS=500;X-TITLE=598 Schoolhouse Road:geo:-76.6752577,40.1952821
END:VEVENT
END:VCALENDAR