BEGIN:VCALENDAR
VERSION:2.0
PRODID:-//Middletown Public Library - ECPv6.15.20//NONSGML v1.0//EN
CALSCALE:GREGORIAN
METHOD:PUBLISH
X-WR-CALNAME:Middletown Public Library
X-ORIGINAL-URL:https://middletownpubliclib.org
X-WR-CALDESC:Events for Middletown Public Library
REFRESH-INTERVAL;VALUE=DURATION:PT1H
X-Robots-Tag:noindex
X-PUBLISHED-TTL:PT1H
BEGIN:VTIMEZONE
TZID:America/New_York
BEGIN:DAYLIGHT
TZOFFSETFROM:-0500
TZOFFSETTO:-0400
TZNAME:EDT
DTSTART:20130310T070000
END:DAYLIGHT
BEGIN:STANDARD
TZOFFSETFROM:-0400
TZOFFSETTO:-0500
TZNAME:EST
DTSTART:20131103T060000
END:STANDARD
BEGIN:DAYLIGHT
TZOFFSETFROM:-0500
TZOFFSETTO:-0400
TZNAME:EDT
DTSTART:20140309T070000
END:DAYLIGHT
BEGIN:STANDARD
TZOFFSETFROM:-0400
TZOFFSETTO:-0500
TZNAME:EST
DTSTART:20141102T060000
END:STANDARD
BEGIN:DAYLIGHT
TZOFFSETFROM:-0500
TZOFFSETTO:-0400
TZNAME:EDT
DTSTART:20150308T070000
END:DAYLIGHT
BEGIN:STANDARD
TZOFFSETFROM:-0400
TZOFFSETTO:-0500
TZNAME:EST
DTSTART:20151101T060000
END:STANDARD
BEGIN:DAYLIGHT
TZOFFSETFROM:-0500
TZOFFSETTO:-0400
TZNAME:EDT
DTSTART:20160313T070000
END:DAYLIGHT
BEGIN:STANDARD
TZOFFSETFROM:-0400
TZOFFSETTO:-0500
TZNAME:EST
DTSTART:20161106T060000
END:STANDARD
BEGIN:DAYLIGHT
TZOFFSETFROM:-0500
TZOFFSETTO:-0400
TZNAME:EDT
DTSTART:20170312T070000
END:DAYLIGHT
BEGIN:STANDARD
TZOFFSETFROM:-0400
TZOFFSETTO:-0500
TZNAME:EST
DTSTART:20171105T060000
END:STANDARD
BEGIN:DAYLIGHT
TZOFFSETFROM:-0500
TZOFFSETTO:-0400
TZNAME:EDT
DTSTART:20180311T070000
END:DAYLIGHT
BEGIN:STANDARD
TZOFFSETFROM:-0400
TZOFFSETTO:-0500
TZNAME:EST
DTSTART:20181104T060000
END:STANDARD
END:VTIMEZONE
BEGIN:VEVENT
DTSTART;TZID=America/New_York:20170930T130000
DTEND;TZID=America/New_York:20170930T160000
DTSTAMP:20260420T074051
CREATED:20170509T192159Z
LAST-MODIFIED:20170925T132728Z
UID:10019586-1506776400-1506787200@middletownpubliclib.org
SUMMARY:Local Author Event
DESCRIPTION:Several local authors will speak about a variety of topics. \nDue to the number of authors\, the event has moved to the social hall of St. Peter’s Church (121 N. Spring St).\n \nThere will be a question and answer period with each of the authors. \nThe authors will be selling and signing their books. \nThe authors are: \nJeffry W. Johnston\, author of YA novels “The Truth and “Fragments” \nNatalie Damschroder\, author of romantic adventures “The Color of Courage\,” and “Aftershocks.” \nLeta Hawk\, author of YA novels “School Spirit” and ‘The Newbie” \nCharlie “The Spaniard” Brenneman\, author of autobiography “Driven: My Unlikely Journey from Classroom to Cage”- Charlie Brenneman will not be able to make it this year. \nMisty Simon\, author of mysteries “Desperately Seeking Salvage” and “Poison Ivy\,” and romance “What’s Life Without Sprinkles?” \nJared Neely\, author of horror novels “Adeline” and “Roper’s Field” \nJodi Moore\, author of children’s books “When a Dragon Moves In” and “Good News Nelson” \nBrian McClure\, author of the action/adventure novel “Trigger.” \nMargaret Houser\, author of autobiographical “He is Her Friend\,”about her and her family. \nE. Sickler\, author of YA fantasy novel “House of Red” \n\n\n	Related
URL:https://middletownpubliclib.org/calendar/local-author-event/
LOCATION:St. Peter’s Church\, 121 N. Spring St.\, Middletown\, PA\, 17057
CATEGORIES:Adult Programs,Teen Programs
ATTACH;FMTTYPE=image/jpeg:https://middletownpubliclib.org/wp-content/uploads/2017/05/Author-Q-and-A-copy.jpg
GEO:40.196384;-76.7314789
X-APPLE-STRUCTURED-LOCATION;VALUE=URI;X-ADDRESS=St. Peter’s Church 121 N. Spring St. Middletown PA 17057;X-APPLE-RADIUS=500;X-TITLE=121 N. Spring St.:geo:-76.7314789,40.196384
END:VEVENT
BEGIN:VEVENT
DTSTART;TZID=America/New_York:20170828T180000
DTEND;TZID=America/New_York:20170828T193000
DTSTAMP:20260420T074051
CREATED:20170509T185608Z
LAST-MODIFIED:20170510T183747Z
UID:10019585-1503943200-1503948600@middletownpubliclib.org
SUMMARY:Local Authors Discussion Group
DESCRIPTION:This discussion group is reading books by authors from right here in the Capital Region. It’s a chance to read books by some local authors who will be visiting in library in the Fall. \n \nMon. June 26 from 6-7:30pm- Edge of Death by John Benedict MD \n \nMon. July 24 from 6-7:30pm- Under the Moon by Natalie J. Damschroder \n \nMon. Aug. 28 from 6-7:30pm- The Newbie by Leta Hawk \nThen on Sat. Sept. 30 from 1 to 4 pm we host a local author panel\, PA Q and A. \n\n\n	Related
URL:https://middletownpubliclib.org/calendar/local-authors-discussion-group-3/
LOCATION:Middletown Public Library
CATEGORIES:Adult Programs,Teen Programs
ATTACH;FMTTYPE=image/jpeg:https://middletownpubliclib.org/wp-content/uploads/2017/05/Local-Authors-Book-Discussions-e1494355704419.jpg
END:VEVENT
BEGIN:VEVENT
DTSTART;TZID=America/New_York:20170817T180000
DTEND;TZID=America/New_York:20170817T193000
DTSTAMP:20260420T074051
CREATED:20170509T183935Z
LAST-MODIFIED:20170525T190426Z
UID:10019582-1502992800-1502998200@middletownpubliclib.org
SUMMARY:Book vs. Movie Discussion Group
DESCRIPTION:This summer we are having a monthly Discussion Group which will look at some of your favorite books/movies and discuss which one is superior! \n \nThurs. June 15 from 6-7:30 pm- Miss Peregrine’s House of Peculiar Children \n \nThurs. July 13 from 6-7:30 pm- The Zookeeper’s Wife \n \nThurs. Aug. 17 from 6-7:30 pm- The Girl With the Dragon Tattoo \n\n\n	Related
URL:https://middletownpubliclib.org/calendar/book-vs-movie-discussion-group-3/
LOCATION:Middletown Public Library
CATEGORIES:Adult Programs,Teen Programs
ATTACH;FMTTYPE=image/jpeg:https://middletownpubliclib.org/wp-content/uploads/2017/05/BvM-e1494354595198.jpg
END:VEVENT
BEGIN:VEVENT
DTSTART;TZID=America/New_York:20170724T180000
DTEND;TZID=America/New_York:20170724T193000
DTSTAMP:20260420T074051
CREATED:20170509T185439Z
LAST-MODIFIED:20170510T183653Z
UID:10019584-1500919200-1500924600@middletownpubliclib.org
SUMMARY:Local Authors Discussion Group
DESCRIPTION:This discussion group is reading books by authors from right here in the Capital Region. It’s a chance to read books by some local authors who will be visiting in library in the Fall. \n \nMon. June 26 from 6-7:30pm- Edge of Death by John Benedict MD \n \nMon. July 24 from 6-7:30pm- Under the Moon by Natalie J. Damschroder \n \nMon. Aug. 28 from 6-7:30pm- The Newbie by Leta Hawk \nThen on Sat. Sept. 30 from 1 to 4 pm we host a local author panel\, PA Q and A. \n\n\n	Related
URL:https://middletownpubliclib.org/calendar/local-authors-discussion-group-2/
LOCATION:Middletown Public Library
CATEGORIES:Adult Programs,Teen Programs
ATTACH;FMTTYPE=image/jpeg:https://middletownpubliclib.org/wp-content/uploads/2017/05/Local-Authors-Book-Discussions-e1494355704419.jpg
END:VEVENT
BEGIN:VEVENT
DTSTART;TZID=America/New_York:20170713T180000
DTEND;TZID=America/New_York:20170713T193000
DTSTAMP:20260420T074051
CREATED:20170509T183818Z
LAST-MODIFIED:20170525T190510Z
UID:10019581-1499968800-1499974200@middletownpubliclib.org
SUMMARY:Book vs. Movie Discussion Group
DESCRIPTION:This summer we are having a monthly Discussion Group which will look at some of your favorite books/movies and discuss which one is superior! \n \nThurs. June 15 from 6-7:30 pm- Miss Peregrine’s House of Peculiar Children \n \nThurs. July 13 from 6-7:30 pm- The Zookeeper’s Wife \n \nThurs. Aug. 17 from 6-7:30 pm- The Girl With the Dragon Tattoo \n\n\n	Related
URL:https://middletownpubliclib.org/calendar/book-vs-movie-discussion-group-2/
LOCATION:Middletown Public Library
CATEGORIES:Adult Programs,Teen Programs
ATTACH;FMTTYPE=image/jpeg:https://middletownpubliclib.org/wp-content/uploads/2017/05/BvM-e1494354595198.jpg
END:VEVENT
BEGIN:VEVENT
DTSTART;TZID=America/New_York:20170626T180000
DTEND;TZID=America/New_York:20170626T193000
DTSTAMP:20260420T074051
CREATED:20170509T185233Z
LAST-MODIFIED:20170510T183556Z
UID:10019583-1498500000-1498505400@middletownpubliclib.org
SUMMARY:Local Authors Discussion Group
DESCRIPTION:This discussion group is reading books by authors from right here in the Capital Region. It’s a chance to read books by some local authors who will be visiting in library in the Fall. \n \nMon. June 26 from 6-7:30pm- Edge of Death by John Benedict MD \n \nMon. July 24 from 6-7:30pm- Under the Moon by Natalie J. Damschroder \n \nMon. Aug. 28 from 6-7:30pm- The Newbie by Leta Hawk \nThen on Sat. Sept. 30 from 1 to 4 pm we host a local author panel\, PA Q and A. \n  \n\n\n	Related
URL:https://middletownpubliclib.org/calendar/local-authors-discussion-group/
LOCATION:Middletown Public Library
CATEGORIES:Adult Programs,Teen Programs
ATTACH;FMTTYPE=image/jpeg:https://middletownpubliclib.org/wp-content/uploads/2017/05/Local-Authors-Book-Discussions-e1494355704419.jpg
END:VEVENT
BEGIN:VEVENT
DTSTART;TZID=America/New_York:20170615T180000
DTEND;TZID=America/New_York:20170615T193000
DTSTAMP:20260420T074051
CREATED:20170509T183643Z
LAST-MODIFIED:20170525T190545Z
UID:10019580-1497549600-1497555000@middletownpubliclib.org
SUMMARY:Book vs. Movie Discussion Group
DESCRIPTION:This summer we are having a monthly Discussion Group which will look at some of your favorite books/movies and discuss which one is superior! \n \nThurs. June 15 from 6-7:30 pm- Miss Peregrine’s House of Peculiar Children \n \nThurs. July 13 from 6-7:30 pm- The Zookeeper’s Wife \n \nThurs. Aug. 17 from 6-7:30 pm- The Girl With the Dragon Tattoo \n\n\n	Related
URL:https://middletownpubliclib.org/calendar/book-vs-movie-discussion-group/
LOCATION:Middletown Public Library
CATEGORIES:Adult Programs,Teen Programs
ATTACH;FMTTYPE=image/jpeg:https://middletownpubliclib.org/wp-content/uploads/2017/05/BvM-e1494354595198.jpg
END:VEVENT
BEGIN:VEVENT
DTSTART;TZID=America/New_York:20170603T093000
DTEND;TZID=America/New_York:20170603T103000
DTSTAMP:20260420T074051
CREATED:20170509T201511Z
LAST-MODIFIED:20170602T125909Z
UID:10019587-1496482200-1496485800@middletownpubliclib.org
SUMMARY:Cupcake/Cake Decorating Contest
DESCRIPTION:Cupcake/Cake (6 inch) Decorating Contest begins at 9:30 am \nDecorate your dessert as your favorite book. \nThey need to be decorated before hand. They will be judged on appearance alone. \nChildren\, Teens\, and Adults will also be able to register for Summer Reading. \n\n\n	Related
URL:https://middletownpubliclib.org/calendar/cupcakecake-decorating-contest/
LOCATION:Middletown Public Library
CATEGORIES:Adult Programs,Teen Programs
ATTACH;FMTTYPE=image/jpeg:https://middletownpubliclib.org/wp-content/uploads/2017/05/Cupcakes-e1494360812957.jpg
END:VEVENT
BEGIN:VEVENT
DTSTART;TZID=America/New_York:20170419T180000
DTEND;TZID=America/New_York:20170419T193000
DTSTAMP:20260420T074051
CREATED:20160823T201611Z
LAST-MODIFIED:20170110T163208Z
UID:10019325-1492624800-1492630200@middletownpubliclib.org
SUMMARY:Murder Mystery Book Club
DESCRIPTION:Join this monthly book discussion group! Members discuss books and participate in a variety of mystery-related activities including mini-mysteries\, a mystery cruise\, and mystery movies. Registration is not required. \n2017 \nJan. – Perfect Justice by William Bernhardt \nFeb. – Lethal by Sandra Brown \nMar. – NYPD Red by James Patterson \nApr. – Diva Runs Out of Thyme by Krista Davis \nMay – Crime in the Neighborhood by Suzanne Berne and Hiding Shadows by Kay Hooper \nThe photo is “The Book Club” by Louis du Mont and is licensed under CC BY-NC-ND 2.0 \n  \n\n\n	Related
URL:https://middletownpubliclib.org/calendar/murder-mystery-book-club/2017-04-19/
LOCATION:Middletown Public Library
CATEGORIES:Adult Programs
ATTACH;FMTTYPE=image/jpeg:https://middletownpubliclib.org/wp-content/uploads/2016/08/4683612710_a15e0d3753_b-e1471983056248.jpg
END:VEVENT
BEGIN:VEVENT
DTSTART;TZID=America/New_York:20170406T180000
DTEND;TZID=America/New_York:20170406T193000
DTSTAMP:20260420T074051
CREATED:20160824T163111Z
LAST-MODIFIED:20170110T163046Z
UID:10019332-1491501600-1491507000@middletownpubliclib.org
SUMMARY:Book Club
DESCRIPTION:Members of the Book Club meet monthly to discuss a variety of chosen books. New members are always welcome and registration is not required. \nIf you’d like to reserve a copy of one of the selections please ask a staff member at the front desk. \n2017 \nJan. – Miss Peregrine’s House for Peculiar Children by Ransom Riggs \nFeb. – Rose Under Fire by Elizabeth Wein (One Book\, One Community) \nMar. – Bud\, Not Buddy by Christopher Curtis\, The Lorax by Dr. Suess\, and Charlotte’s Web by E.B. White \nApr. – Sweetness at the Bottom of the Pie by Alan Bradley \nMay – A Wrinkle in Time by Madeline L’Engle and The War of the Worlds by H.G. Wells \nThe photo is “The Book Club” by Louis du Mont and is licensed under CC BY-NC-ND 2.0 \n  \n\n\n	Related
URL:https://middletownpubliclib.org/calendar/book-club/2017-04-06/
LOCATION:Middletown Public Library
CATEGORIES:Adult Programs
ATTACH;FMTTYPE=image/jpeg:https://middletownpubliclib.org/wp-content/uploads/2016/08/4683612710_a15e0d3753_b-e1471983056248.jpg
END:VEVENT
BEGIN:VEVENT
DTSTART;TZID=America/New_York:20160611T180000
DTEND;TZID=America/New_York:20160611T193000
DTSTAMP:20260420T074051
CREATED:20160316T161523Z
LAST-MODIFIED:20160316T164012Z
UID:10019157-1465668000-1465673400@middletownpubliclib.org
SUMMARY:Knit\, Crochet\, and Craft Group
DESCRIPTION:The April 11 meeting is going to be a special “Learning to Crochet Class.” This is the perfect time to start coming! If interested please RSVP at the Front Desk or over the phone.  (As always you must bring your own materials). \nAll ages are welcome to join this group the 2nd and 4th Monday of each month (the remaining March meeting is Tues. March 22) to knit\, crochet\, or craft! Come to one meeting or come to all of them\, but we hope you’ll check it out! \n\n\n	Related
URL:https://middletownpubliclib.org/calendar/knit-crochet-craft-group-3/2016-06-11/
LOCATION:Middletown Public Library
CATEGORIES:Adult Programs
ATTACH;FMTTYPE=image/jpeg:https://middletownpubliclib.org/wp-content/uploads/2016/02/How-do-you-crochet-e1456770727387.jpg
END:VEVENT
BEGIN:VEVENT
DTSTART;TZID=America/New_York:20160522T180000
DTEND;TZID=America/New_York:20160522T193000
DTSTAMP:20260420T074051
CREATED:20140819T024314Z
LAST-MODIFIED:20160229T181837Z
UID:10018104-1463940000-1463945400@middletownpubliclib.org
SUMMARY:Knit\, Crochet\, & Craft Group
DESCRIPTION:All ages are welcome to join this group the 2nd and 4th Tuesday of each month to knit\, crochet\, or craft! Come to one meeting or come to all of them but we hope you’ll check it out! \n\n\n	Related
URL:https://middletownpubliclib.org/calendar/knit-crochet-craft-group-2/2016-05-22/
LOCATION:Middletown Public Library
CATEGORIES:Adult Programs
ATTACH;FMTTYPE=image/jpeg:https://middletownpubliclib.org/wp-content/uploads/2014/12/crochet-hooks-2-e1419868628827.jpg
END:VEVENT
BEGIN:VEVENT
DTSTART;TZID=America/New_York:20160508T180000
DTEND;TZID=America/New_York:20160508T193000
DTSTAMP:20260420T074051
CREATED:20140819T024155Z
LAST-MODIFIED:20160229T182914Z
UID:10018097-1462730400-1462735800@middletownpubliclib.org
SUMMARY:Knit\, Crochet\, & Craft Group
DESCRIPTION:The March 8 meeting is going to be a special “Learning to Crochet Class.” This is the perfect time to start coming! (As always you must bring your own materials). \nAll ages are welcome to join this group the 2nd and 4th Tuesday of each month to knit\, crochet\, or craft! Come to one meeting or come to all of them\, but we hope you’ll check it out! \n\n\n	Related
URL:https://middletownpubliclib.org/calendar/knit-crochet-craft-group/2016-05-08/
LOCATION:Middletown Public Library
CATEGORIES:Adult Programs
ATTACH;FMTTYPE=image/jpeg:https://middletownpubliclib.org/wp-content/uploads/2014/12/crochet-hooks-2-e1419868628827.jpg
END:VEVENT
BEGIN:VEVENT
DTSTART;TZID=America/New_York:20160425T180000
DTEND;TZID=America/New_York:20160425T193000
DTSTAMP:20260420T074051
CREATED:20160316T164323Z
LAST-MODIFIED:20160524T213429Z
UID:10019158-1461607200-1461612600@middletownpubliclib.org
SUMMARY:Knit\, Crochet\, and Craft Group
DESCRIPTION:The April 11 meeting is going to be a special “Learning to Crochet Class.” This is the perfect time to start coming! If interested please RSVP at the Front Desk or over the phone.  (As always you must bring your own materials). \nAll ages are welcome to join this group the 2nd and 4th Monday of each month (the remaining March meeting is Tues. March 22) to knit\, crochet\, or craft! Come to one meeting or come to all of them\, but we hope you’ll check it out! \n\n\n	Related
URL:https://middletownpubliclib.org/calendar/knit-crochet-craft-group-4/2016-04-25/
LOCATION:Middletown Public Library
CATEGORIES:Adult Programs
ATTACH;FMTTYPE=image/jpeg:https://middletownpubliclib.org/wp-content/uploads/2016/02/How-do-you-crochet-e1456770727387.jpg
END:VEVENT
BEGIN:VEVENT
DTSTART;TZID=America/New_York:20160421T180000
DTEND;TZID=America/New_York:20160421T193000
DTSTAMP:20260420T074051
CREATED:20140806T235745Z
LAST-MODIFIED:20160229T182342Z
UID:10018088-1461261600-1461267000@middletownpubliclib.org
SUMMARY:Mystery Book Discussion Group
DESCRIPTION:Join this brand new monthly book discussion group! Members will discuss books and participate in a variety of mystery-related activities including mini-mysteries\, a mystery cruise\, and mystery movies. Registration is not required. \n2015 \nNov. – Everywhere That Mary Went by Lisa Scotolin \nDec. – Killing Floor by Lee Childs \n2016 \nJan. – Chocolate Chip Cookie Murder by Joanne Fluke \nFeb. – Deal Breaker by Harlan Coben \nMar. – Cater to Nobody by Diane Mott Davidson \nApr. – A is for Alibi by Sue Grafton \nMay – Stealing Shadows by Kay Hooper \n  \n  \n\n\n	Related
URL:https://middletownpubliclib.org/calendar/mystery-book-discussion-group/2016-04-21/
LOCATION:Middletown Public Library
CATEGORIES:Adult Programs
ATTACH;FMTTYPE=image/jpeg:https://middletownpubliclib.org/wp-content/uploads/2014/06/Middletown-Public-Library-28-e1407355050677.jpg
END:VEVENT
BEGIN:VEVENT
DTSTART;TZID=America/New_York:20140830T120000
DTEND;TZID=America/New_York:20140830T130000
DTSTAMP:20260420T074051
CREATED:20140812T233153Z
LAST-MODIFIED:20140812T233153Z
UID:10018089-1409400000-1409403600@middletownpubliclib.org
SUMMARY:Dr. Who Trivial Pursuit Tournament
DESCRIPTION:Test your knowledge of Dr. Who and win a prize! \n\n\n	Related
URL:https://middletownpubliclib.org/calendar/dr-trivial-pursuit-tournament/
LOCATION:Middletown Public Library
END:VEVENT
BEGIN:VEVENT
DTSTART;TZID=America/New_York:20140715T180000
DTEND;TZID=America/New_York:20140715T200000
DTSTAMP:20260420T074051
CREATED:20140606T215119Z
LAST-MODIFIED:20140606T215119Z
UID:10018065-1405447200-1405454400@middletownpubliclib.org
SUMMARY:Sherlock Holmes Night
DESCRIPTION:Dress as your favorite character and join others to solve a mini-mystery and discuss how Holmes used science to solve many of his crimes. \n\n\n	Related
URL:https://middletownpubliclib.org/calendar/sherlock-holmes-night/
LOCATION:Middletown Public Library
END:VEVENT
END:VCALENDAR